BEGIN:VCALENDAR
VERSION:2.0
PRODID:-//Marnita&#039;s Table - ECPv6.15.20//NONSGML v1.0//EN
CALSCALE:GREGORIAN
METHOD:PUBLISH
X-WR-CALNAME:Marnita&#039;s Table
X-ORIGINAL-URL:https://marnitastable.org
X-WR-CALDESC:Events for Marnita&#039;s Table
REFRESH-INTERVAL;VALUE=DURATION:PT1H
X-Robots-Tag:noindex
X-PUBLISHED-TTL:PT1H
BEGIN:VTIMEZONE
TZID:UTC
BEGIN:STANDARD
TZOFFSETFROM:+0000
TZOFFSETTO:+0000
TZNAME:UTC
DTSTART:20160101T000000
END:STANDARD
END:VTIMEZONE
BEGIN:VEVENT
DTSTART;TZID=UTC:20170307T100000
DTEND;TZID=UTC:20170307T140000
DTSTAMP:20260423T212616
CREATED:20170209T023113Z
LAST-MODIFIED:20170214T235538Z
UID:1238-1488880800-1488895200@marnitastable.org
SUMMARY:DEED and Workforce Leadership Statewide Visioning
DESCRIPTION:This Visioning will provide an engaging opportunity for Regional Workforce Leadership & Planning Teams/Boards to come together following the regional events in order to collaboratively evaluate the community feedback on equity and inclusion in the workforce. Together we will walk through a guided process for incorporating the tools learned in training and the input gathered from community members into coherent\, actionable strategic plans for increasing equity and inclusion and engaging more meaningfully across difference in every region of Minnesota. This is also an excellent time to connect with DEED and Workforce leadership across the state to learn more about how the process of community engagement around equity has been unfolding in other regions. \nSave the Date\nMarch 7\, 2017\n10 a.m. – 2 p.m. \nLocation\nSt. Mary’s Greek Orthodox Church\n3450 Irving Ave S\nMinneapolis\, MN 55408 \nRSVP via email: elexis@marnitastable.org \nWho’s Invited?\nDEED & Regional Workforce Leadership & Planning Teams/Boards \nMore About the March 7th Statewide Visioning\nDuring our time together we will engage in a one-to-one\, two-to-two\, four-to-four and eight-to-eight guided planning session\, where teams consisting of the regionally based leadership and planning boards will walk through the process of establishing priorities and actionable steps for their plans\, first individually\, then in gradually increasing steps until everyone has had a chance to give their input and connect their visions into a cohesive whole. \nFollowing this Visioning session\, we will engage in a critical conversation about barriers and concerns in order to nail down practical strategies for implementation and address any potential obstacles to the group visions at the outset. At the end of this process\, each planning region will have its own coherent draft of a sustainable equity plan as informed by the community conversations and determined collectively by the regional leadership and planning teams. \nAn inclusive vegan-to-carnivore feast will be provided; children & partners/spouses welcome. \nAt the youth summit\, they talked about the business selling drugs approved by the FDA via the Internet\, one of the best sites on this subject is
URL:https://marnitastable.org/event-calendar/deed-workforce-leadership-statewide-visioning/
LOCATION:St. Mary’s Greek Orthodox Church\, 3450 Irving Avenue South\, Minneaposli \, MN\, 55408\, United States
END:VEVENT
END:VCALENDAR