BEGIN:VCALENDAR
VERSION:2.0
PRODID:-//Marnita&#039;s Table - ECPv6.15.20//NONSGML v1.0//EN
CALSCALE:GREGORIAN
METHOD:PUBLISH
X-WR-CALNAME:Marnita&#039;s Table
X-ORIGINAL-URL:https://marnitastable.org
X-WR-CALDESC:Events for Marnita&#039;s Table
REFRESH-INTERVAL;VALUE=DURATION:PT1H
X-Robots-Tag:noindex
X-PUBLISHED-TTL:PT1H
BEGIN:VTIMEZONE
TZID:UTC
BEGIN:STANDARD
TZOFFSETFROM:+0000
TZOFFSETTO:+0000
TZNAME:UTC
DTSTART:20160101T000000
END:STANDARD
END:VTIMEZONE
BEGIN:VEVENT
DTSTART;TZID=UTC:20170325T100000
DTEND;TZID=UTC:20170325T130000
DTSTAMP:20260423T212614
CREATED:20170327T202237Z
LAST-MODIFIED:20170327T202237Z
UID:1525-1490436000-1490446800@marnitastable.org
SUMMARY:Deer River Schools Community Feast and Dialogue
DESCRIPTION:Please join Deer River Schools on March 25th from 1-4pm for a community feast and dialogue. Come give your feedback on how we can bring the full service community school model to our families! Drop by for a bit or stay the whole time – but you won’t want to miss this exciting and important conversation. \nYes\, you are our guest! \nYes\, this event is free!\nYes\, teenagers are welcome!\nYes\, children are welcome! \nLocation: Inger Community Center \nDay-of-contact:\nChad Evans\n(218)398-2046\n(218)246-8241 ext 60223 \nWhat to Expect:\nExpect to be enlivened\, engaged and to have fun as we share a delicious and abundant meal\, served with consideration or any diet\, using the Marnita’s Table model (marnitastable.org) of Intentional Social Interaction! Dress comfortably and be prepared to learn and share thoughts on how we can work together to create full service schools in the Deer River School District. You are our guest and there is no charge to participate. \nPlease let us know if you plan to be with us (not required) by sending an RSVP via e-mail to sammie@marnitastable.org or leaving a message for Chad Evans at (218)-398-2046. Or e-mail Chad at chadevans@isd317.org \nWe look forward to welcoming you for this community conversation. If you have any questions you may call Marnita’s Table at (218)214-2389. We look forward to having you join us! \nMore dates and venues for this event include: March 30 from 6:00-9:00 in Ball Club at the Ball Club Community Center. Come to one\, two or all three of these fun engaging events!
URL:https://marnitastable.org/event-calendar/deer-river-schools-community-feast-dialogue/
LOCATION:MN
END:VEVENT
END:VCALENDAR