BEGIN:VCALENDAR
VERSION:2.0
PRODID:-//Marnita&#039;s Table - ECPv6.15.20//NONSGML v1.0//EN
CALSCALE:GREGORIAN
METHOD:PUBLISH
X-ORIGINAL-URL:https://marnitastable.org
X-WR-CALDESC:Events for Marnita&#039;s Table
REFRESH-INTERVAL;VALUE=DURATION:PT1H
X-Robots-Tag:noindex
X-PUBLISHED-TTL:PT1H
BEGIN:VTIMEZONE
TZID:UTC
BEGIN:STANDARD
TZOFFSETFROM:+0000
TZOFFSETTO:+0000
TZNAME:UTC
DTSTART:20160101T000000
END:STANDARD
END:VTIMEZONE
BEGIN:VEVENT
DTSTART;TZID=UTC:20170517T080000
DTEND;TZID=UTC:20170517T100000
DTSTAMP:20260423T173856
CREATED:20170426T001144Z
LAST-MODIFIED:20170426T002550Z
UID:1575-1495008000-1495015200@marnitastable.org
SUMMARY:Tea at the Table Info Session
DESCRIPTION:It’s that time again! Marnita’s Table is having our bimonthly “Tea Time at the Table” info session. \nHave you been to an IZI or the Building Resilience conference and left wanting to know more about Marnita’s Table? Is your community\, organization\, church\, or school in need of Intentional Social Interaction? We invite you to join us for Tea at the Table on Wednesday\, May 17\, 2017 from 8:00-10:00AM – a fun and informative session to get your questions answered! \nThese info sessions will be held every two months\, so don’t worry if you can’t make it to this one! We look forward to welcoming you in the future. \nLocation: \nMarnita’s Table Office\n2136 Penn Avenue South\nMinneapolis\, Minnesota 55405 \nYes! This event is free to participants.\nYes! This session is open to the public.  \nPlease RSVP via email to Lauren@marnitastable.org or give us a call at 612.928.7744
URL:https://marnitastable.org/event-calendar/tea-at-the-table/
LOCATION:Marnita’s Table Office\, 2136 Penn Avenue South \, Minneapolis\, MN\, 55419\, United States
END:VEVENT
END:VCALENDAR