BEGIN:VCALENDAR
VERSION:2.0
PRODID:-//Marnita&#039;s Table - ECPv6.15.20//NONSGML v1.0//EN
CALSCALE:GREGORIAN
METHOD:PUBLISH
X-ORIGINAL-URL:https://marnitastable.org
X-WR-CALDESC:Events for Marnita&#039;s Table
REFRESH-INTERVAL;VALUE=DURATION:PT1H
X-Robots-Tag:noindex
X-PUBLISHED-TTL:PT1H
BEGIN:VTIMEZONE
TZID:UTC
BEGIN:STANDARD
TZOFFSETFROM:+0000
TZOFFSETTO:+0000
TZNAME:UTC
DTSTART:20160101T000000
END:STANDARD
END:VTIMEZONE
BEGIN:VEVENT
DTSTART;TZID=UTC:20170713T180000
DTEND;TZID=UTC:20170713T210000
DTSTAMP:20260423T141102
CREATED:20170614T210400Z
LAST-MODIFIED:20170614T210400Z
UID:1776-1499968800-1499979600@marnitastable.org
SUMMARY:Cass Lake-Bena Schools Community Input Meeting
DESCRIPTION:Come learn about the options and give your feedback on the school facilities’ upgrade options for a potential November referendum. Drop by for a bit or stay for the whole time. Your voices are valuable and we want your input! \nYes\, this event is free!\nYes\, there will be food!\nYes\, children are welcome!\nYes\, please invite other members of our community! \nTransportation provided if needed.\nCall 218-214-2389 right away to arrange a ride!
URL:https://marnitastable.org/event-calendar/cass-lake-bena-schools-community-input-meeting/
LOCATION:Cass Lake American Legion 217 2nd Street NW\, 217 2nd St SE\, Cass Lake\, MN\, 56633\, United States
END:VEVENT
END:VCALENDAR