BEGIN:VCALENDAR
VERSION:2.0
PRODID:-//Marnita&#039;s Table - ECPv6.15.20//NONSGML v1.0//EN
CALSCALE:GREGORIAN
METHOD:PUBLISH
X-WR-CALNAME:Marnita&#039;s Table
X-ORIGINAL-URL:https://marnitastable.org
X-WR-CALDESC:Events for Marnita&#039;s Table
REFRESH-INTERVAL;VALUE=DURATION:PT1H
X-Robots-Tag:noindex
X-PUBLISHED-TTL:PT1H
BEGIN:VTIMEZONE
TZID:UTC
BEGIN:STANDARD
TZOFFSETFROM:+0000
TZOFFSETTO:+0000
TZNAME:UTC
DTSTART:20160101T000000
END:STANDARD
END:VTIMEZONE
BEGIN:VEVENT
DTSTART;TZID=UTC:20171024T180000
DTEND;TZID=UTC:20171024T210000
DTSTAMP:20260423T084113
CREATED:20170926T005547Z
LAST-MODIFIED:20170926T005547Z
UID:2154-1508868000-1508878800@marnitastable.org
SUMMARY:Health Matters! A Scott County Health IZI
DESCRIPTION:Please join the Scott County Health Care System Collaborative for Health Matters! a community feast and conversation about health and wellness. \nDuring our time together we will explore what we need to be well and how we can fully access healthcare when we need it. \nYes! This event is free.\nYes! Dinner is provided.\nYes! Children and youth are welcome.\nNo uniforms! No name tags! Dress comfortably! \nRSVP via e-mail to sammie@marnitastable.org or call us at 612.928.7744 \nFunding for this event was generously provided by the Statewide Health Improvement Partnership\, St. Francis Regional Medical Center and Mayo Clinic Health System New Prague. \nWhat to Expect\nExpect to be enlivened\, engaged and to have fun as we share an abundant feast and discuss what we can do together to make a healthy and more equitable community for all. Dinner is served in abundance to allay any dietary or cultural concern from vegan to carnivore using Marnita’s Table model (marnitastable.org) of a resource abundant environment where all can eat their fill! Dress comfortably. You are our guest for dinner. There is no charge to participate.
URL:https://marnitastable.org/event-calendar/health-matters-scott-county-health-izi/
LOCATION:Shakopee Community Center\, 1255 Fuller St S\, Shakopee\, MN\, 55379\, United States
END:VEVENT
END:VCALENDAR