BEGIN:VCALENDAR
VERSION:2.0
PRODID:-//Marnita&#039;s Table - ECPv6.15.20//NONSGML v1.0//EN
CALSCALE:GREGORIAN
METHOD:PUBLISH
X-ORIGINAL-URL:https://marnitastable.org
X-WR-CALDESC:Events for Marnita&#039;s Table
REFRESH-INTERVAL;VALUE=DURATION:PT1H
X-Robots-Tag:noindex
X-PUBLISHED-TTL:PT1H
BEGIN:VTIMEZONE
TZID:UTC
BEGIN:STANDARD
TZOFFSETFROM:+0000
TZOFFSETTO:+0000
TZNAME:UTC
DTSTART:20160101T000000
END:STANDARD
END:VTIMEZONE
BEGIN:VEVENT
DTSTART;TZID=UTC:20171115T100000
DTEND;TZID=UTC:20171115T160000
DTSTAMP:20260423T064731
CREATED:20171107T054654Z
LAST-MODIFIED:20171107T054654Z
UID:2277-1510740000-1510761600@marnitastable.org
SUMMARY:IZI Training 101-104
DESCRIPTION:Get trained in our experience engineering model of Intentional Social Interaction (“IZI”)! Marnita’s Table is teaching IZI 101-104 on Wednesday\, November 15 from 10:00am-4:00pm at Washington Technology Magnet High School. You will deepen your own leadership skills and cross-cultural competency\, while learning methods to effectively engage people across difference! \nYou will:\n-Play with and eat delicious food and beverage while thinking deeply about the practical logistics of consistently creating an authentically welcoming environment;\n-Learn the 5 foundational roots and 20 touchpoints of IZI;\n-Practice inclusive tools to facilitate individuals across difference;\n-Receive access to exclusive Marnita’s Table tools that will help you host your own personal IZIs; and\n-Explore practices to engage under-represented or under-resourced individuals. \nLocation\nWashington Technology Magnet School\n1495 Rice Street\nCenter for Equity and Culture Room 1620\nSt. Paul\, MN 55117\n10:00 a.m. – 4:00 p.m. \nPlease send an email to Lauren@marnitastable.org to RSVP and learn more about pricing. \nIZI Training Quotes\n“From the moment I walked in for our first IZI training until Circle Share-In time at our Kick-off event\, I personally felt challenged and strengthened in ways I was not expecting. It’s easy to remain complacent and being a part of the IZI team affirmed for me how critical it is to be intentional with each connection that we encounter.” \n“I was stretched to go deeper within myself and was honestly in awe of the transformation that took place within the room as co-workers came together to share a delicious meal and authentically connect with one another.” \nAbout Marnita’s Table\nMarnita’s Table is a mission-driven nonprofit organization that seeks to measurably increase social capital across race\, class\, culture\, gender and other means of self-identity in order to catalyze transformational change where racial and cultural differences are not viewed as deficits or merely tolerated\, but instead viewed as assets. Experts at social capital building\, in the past twelve years we’ve welcomed over 40\,000 people from around the world and the around the way to find common ground while breaking bread. \nIf you would like to learn more about Marnita’s Table\, please visit our website at marnitastable.org.
URL:https://marnitastable.org/event-calendar/izi-training-101-104/
LOCATION:Washington Technology Magnet High School\, 1495 Rice Street\, St. Paul\, MN\, 55117
END:VEVENT
END:VCALENDAR