BEGIN:VCALENDAR
VERSION:2.0
PRODID:-//Marnita&#039;s Table - ECPv6.15.20//NONSGML v1.0//EN
CALSCALE:GREGORIAN
METHOD:PUBLISH
X-WR-CALNAME:Marnita&#039;s Table
X-ORIGINAL-URL:https://marnitastable.org
X-WR-CALDESC:Events for Marnita&#039;s Table
REFRESH-INTERVAL;VALUE=DURATION:PT1H
X-Robots-Tag:noindex
X-PUBLISHED-TTL:PT1H
BEGIN:VTIMEZONE
TZID:UTC
BEGIN:STANDARD
TZOFFSETFROM:+0000
TZOFFSETTO:+0000
TZNAME:UTC
DTSTART:20170101T000000
END:STANDARD
END:VTIMEZONE
BEGIN:VEVENT
DTSTART;TZID=UTC:20180225T123000
DTEND;TZID=UTC:20180225T153000
DTSTAMP:20260423T015255
CREATED:20180123T010436Z
LAST-MODIFIED:20180222T015935Z
UID:2376-1519561800-1519572600@marnitastable.org
SUMMARY:Engage!
DESCRIPTION:Please join the United Way of Steele County on Sunday\, February 25th from 12:30p.m.- 3:30pm for\nEngage! a brunch and community conversation \nGet involved\, get informed\, and get going!\nFeel free to drop by for a bit or stay for the whole time.\nYes\, this event is free!\nYes\, children and youth are welcome! \nLocation:\nThe new McKinley Elementary School Gym\n1050 22nd Street NE\nOwatonna\, MN 55060 \nDay-of contact:\nSammie 612-875-3215 \nWhat to Expect:\nExpect to have a great conversation with your neighbors about the ways you are or would like to be involved in community activities. A fun feast of breakfast and lunch foods will be served\, using the Marnita’s Table model (marnitastable.org) of Intentional Social Interaction! Dress comfortably and be prepared to learn and share. You are our guest and there is no charge to participate. \nPlease let us know if you plan to be with us by sending an RSVP via e-mail to sammie@marnitastable.org or leaving a message at 612-928-7744. \nAcompáñanos al United Way del Condado de Steele County para el evento….\n¡Conéctate!\nUn almuerzo y conversación comunitaria. \n¡Infórmate\, conéctate\, y participa! Acompaña a tus vecinos para explorar maneras que puedes participar e involucrarte en tu comunidad. \n• ¡Si! El evento es Gratis\n• ¡Si! Se servirá un almuerzo\n• ¡Si! Niños y jóvenes serán bienvenidos \nCuando:\nDomingo\, 25 de febrero\n12:30 -3:30 p.m. \nDonde:\nEl nuevo gimnasio en la escuela McKinley Elementary\n1050 22nd Street NE\nOwatonna\, MN \nReserva tu asiento al correo electrónico sammie@marnitastable.org o llámanos al 612.928.7744.
URL:https://marnitastable.org/event-calendar/engage/
LOCATION:McKinley Elementary School Gym\, 1050 22nd Street NE\, Owatonna\, MN\, 55060\, United States
END:VEVENT
END:VCALENDAR