BEGIN:VCALENDAR
VERSION:2.0
PRODID:-//Marnita&#039;s Table - ECPv6.15.20//NONSGML v1.0//EN
CALSCALE:GREGORIAN
METHOD:PUBLISH
X-ORIGINAL-URL:https://marnitastable.org
X-WR-CALDESC:Events for Marnita&#039;s Table
REFRESH-INTERVAL;VALUE=DURATION:PT1H
X-Robots-Tag:noindex
X-PUBLISHED-TTL:PT1H
BEGIN:VTIMEZONE
TZID:UTC
BEGIN:STANDARD
TZOFFSETFROM:+0000
TZOFFSETTO:+0000
TZNAME:UTC
DTSTART:20170101T000000
END:STANDARD
END:VTIMEZONE
BEGIN:VEVENT
DTSTART;TZID=UTC:20180306T100000
DTEND;TZID=UTC:20180306T160000
DTSTAMP:20260423T001538
CREATED:20180202T012242Z
LAST-MODIFIED:20180208T000204Z
UID:2468-1520330400-1520352000@marnitastable.org
SUMMARY:IZI Training 101-104: Intro to the IZI Experience
DESCRIPTION:Get trained in our experience engineering model of Intentional Social Interaction (“IZI”)! Marnita’s Table is teaching IZI 101-104 on Tuesday\, March 6th from 10:00am-4:00pm at First Universalist Church in Uptown Minneapolis. You will deepen your own leadership skills and cross-cultural competency\, while learning methods to effectively engage people across difference! \nYou will:\n-Play with and eat delicious food and beverage while thinking deeply about the practical logistics of consistently creating an authentically welcoming environment;\n-Learn the 5 foundational roots and 20 touchpoints of IZI;\n-Practice inclusive tools to facilitate individuals across difference;\n-Receive access to exclusive Marnita’s Table tools that will help you host your own personal IZIs; and\n-Explore practices to engage under-represented or under-resourced individuals. \nLocation\nFirst Universalist Church\n3400 Dupont Avenue South #2\nMinneapolis\, MN 55408\n10:00 a.m. – 4:00 p.m. \nPlease send an email to Lauren@marnitastable.org to RSVP and learn more about pricing. \nIZI Training Quotes\n“From the moment I walked in for our first IZI training until Circle Share-In time at our Kick-off event\, I personally felt challenged and strengthened in ways I was not expecting. It’s easy to remain complacent and being a part of the IZI team affirmed for me how critical it is to be intentional with each connection that we encounter.” \n“I was stretched to go deeper within myself and was honestly in awe of the transformation that took place within the room as co-workers came together to share a delicious meal and authentically connect with one another.” \nAbout Marnita’s Table\nMarnita’s Table is a mission-driven nonprofit organization that seeks to measurably increase social capital across race\, class\, culture\, gender and other means of self-identity in order to catalyze transformational change where racial and cultural differences are not viewed as deficits or merely tolerated\, but instead viewed as assets. Experts at social capital building\, in the past twelve years we’ve welcomed over 41\,000 people from around the world and the around the way to find common ground while breaking bread. \nIf you would like to learn more about Marnita’s Table\, please visit our website at marnitastable.org.
URL:https://marnitastable.org/event-calendar/izi-training-101-104-2/
LOCATION:First Universalist Church\, 3400 Dupont Ave #2\, Minneapolis\, MN\, 55408\, United States
END:VEVENT
END:VCALENDAR