BEGIN:VCALENDAR
VERSION:2.0
PRODID:-//Marnita&#039;s Table - ECPv6.15.20//NONSGML v1.0//EN
CALSCALE:GREGORIAN
METHOD:PUBLISH
X-ORIGINAL-URL:https://marnitastable.org
X-WR-CALDESC:Events for Marnita&#039;s Table
REFRESH-INTERVAL;VALUE=DURATION:PT1H
X-Robots-Tag:noindex
X-PUBLISHED-TTL:PT1H
BEGIN:VTIMEZONE
TZID:UTC
BEGIN:STANDARD
TZOFFSETFROM:+0000
TZOFFSETTO:+0000
TZNAME:UTC
DTSTART:20170101T000000
END:STANDARD
END:VTIMEZONE
BEGIN:VEVENT
DTSTART;TZID=UTC:20180425T100000
DTEND;TZID=UTC:20180425T150000
DTSTAMP:20260422T222024
CREATED:20180416T223647Z
LAST-MODIFIED:20180416T223647Z
UID:2524-1524650400-1524668400@marnitastable.org
SUMMARY:Seed Grantee Convening 2018
DESCRIPTION:The Catalyst Initiative of the Minneapolis Foundation and Marnita’s Table invite you to join us on Wednesday\, April 25th from 10:00 a.m. to 3:00 p.m. for the 2018 Seed Grantee Convening honoring and expanding the work of all of Catalyst’s seed grant recipients over the past three years. Please plan to be with us as we lift up the great work that was begun by the George Family Foundation\, and celebrate the passing of the torch to our new home at the Minneapolis Foundation\, where we seek to widen the scope and impact of our work through fostering new relationships and enduring connections in integrative health and wellbeing. \nIf you are a current or past seed grantee\, we ask that you prepare a 5-minute description/summary of your program and project and be ready to share with the group. This can take the format of a poster or laptop slideshow. We look forward to welcoming you. \nLocation \nFirst Universalist Church of Minneapolis \n3400 Dupont Avenue South \nMinneapolis\, MN 55408  \nRSVP via e-mail to elexis@marnitastable.org \nYou may also call us at 612.928.7744 \nDay of Contact:  \nElexis | 401.871.5641 \nWhat to Expect \nA light breakfast\, lunch and snacks will be served in abundance to allay any dietary concern from vegan to carnivore using the Marnita’s Table model of Intentional Social Interaction. Dress comfortably. You are our guest for the day. This all-day feast and workshop has been made possible thanks by the generosity of the Catalyst Initiative of the Minneapolis Foundation. \n  \nAbout the Catalyst Initiative of the Minneapolis Foundation: \nCatalyst is a field of interest fund of the Minneapolis Foundation designed to build integrative health and healing in Minnesota for a healthier population. Catalyst provides training and technical assistance\, hosts convenings\, connects for impact\, and provides small\, short-term seed grants to reach our goal of a healthier Minnesota. \nOur Mission: to make Minnesota the healthiest state by improving overall health and wellbeing through proactive means\, by empowering people and communities to incorporate meaningful lifestyle changes for maximum wellbeing\, and promote widespread access to integrative healing modalities. \nOur Vision: To transform the consciousness of Minnesotans about their health and wellbeing to a) enable self-care to become true primary care; b) lead to an understanding of the connectedness of mind\, body\, and spirit and the immense self-healing capacity of human beings; and c) build acceptance that the best medicine combines proven medical treatments with a full range of healing modalities.
URL:https://marnitastable.org/event-calendar/seed-grantee-convening-2018/
LOCATION:First Universalist Church\, 3400 Dupont Ave #2\, Minneapolis\, MN\, 55408\, United States
ORGANIZER;CN="Marnita's Table":MAILTO:info@marnitastable.org
END:VEVENT
END:VCALENDAR