BEGIN:VCALENDAR
VERSION:2.0
PRODID:-//Marnita&#039;s Table - ECPv6.15.20//NONSGML v1.0//EN
CALSCALE:GREGORIAN
METHOD:PUBLISH
X-ORIGINAL-URL:https://marnitastable.org
X-WR-CALDESC:Events for Marnita&#039;s Table
REFRESH-INTERVAL;VALUE=DURATION:PT1H
X-Robots-Tag:noindex
X-PUBLISHED-TTL:PT1H
BEGIN:VTIMEZONE
TZID:UTC
BEGIN:STANDARD
TZOFFSETFROM:+0000
TZOFFSETTO:+0000
TZNAME:UTC
DTSTART:20170101T000000
END:STANDARD
END:VTIMEZONE
BEGIN:VEVENT
DTSTART;TZID=UTC:20180816T160000
DTEND;TZID=UTC:20180816T200000
DTSTAMP:20260422T153045
CREATED:20180807T215541Z
LAST-MODIFIED:20180807T215541Z
UID:2825-1534435200-1534449600@marnitastable.org
SUMMARY:Building Bridges and Breaking Bread
DESCRIPTION:Our communities celebrate the reopening of the 38th Street Bridge with the Minnesota Department of Transportation (MnDOT) on Thursday\, August 16\, from 4-8pm. Join us for a sit-down dinner on the bridge (served at 5:45 PM)\, kid friendly activities\, live music and more! This is an opportunity for neighbors to meet and have a conversation around our unique stories and shared future – where all members of the community are empowered! \nThe conversation\, facilitated by Marnita’s Table\, will furnish space for open dialogue and healing. A collective dinner will be catered by Eat for Equity Minneapolis and will include halal\, vegan and gluten free options. \nGather with family\, friends and neighbors and help us celebrate the reopening of this cornerstone bridge that connects our vibrant cultures\, neighborhoods and community. \nPlease RSVP here if you plan on attending. If you have questions call 612-823-5980. \nThank you to our co-hosts:\nBryant Neighborhood Organization (BNO)\nCentral Area Neighborhood Development Organization (CANDO)\nCouncil Member Andrea Jenkins – Eighth Ward Council Office\nEat for Equity Minneapolis\nLyndale Neighborhood Association (LNA)\nKente Circle\nKingfield Neighborhood Association (KFNA)\nMarnita’s Table\nMinnesota Department of Transportation\nSabathani Community Center\nMinnesota Spokesman-Recorder News \nThank you to our sponsors:\nXcel Energy\nLitin Eco\nSeward Community Co-op Friendship Store\nBlackeye Roasting Co\nBaker’s Field Flour & Bread\nSouthside Community Health Services\nCenter for Performing Arts \nClick here to link to Facebook: https://www.facebook.com/events/1901481466821843/
URL:https://marnitastable.org/event-calendar/building-bridges-and-breaking-bread/
LOCATION:38th St E\, Minneapolis\, MN 55409\, United States
END:VEVENT
END:VCALENDAR