BEGIN:VCALENDAR
VERSION:2.0
PRODID:-//Marnita&#039;s Table - ECPv6.15.20//NONSGML v1.0//EN
CALSCALE:GREGORIAN
METHOD:PUBLISH
X-ORIGINAL-URL:https://marnitastable.org
X-WR-CALDESC:Events for Marnita&#039;s Table
REFRESH-INTERVAL;VALUE=DURATION:PT1H
X-Robots-Tag:noindex
X-PUBLISHED-TTL:PT1H
BEGIN:VTIMEZONE
TZID:UTC
BEGIN:STANDARD
TZOFFSETFROM:+0000
TZOFFSETTO:+0000
TZNAME:UTC
DTSTART:20170101T000000
END:STANDARD
END:VTIMEZONE
BEGIN:VEVENT
DTSTART;TZID=UTC:20180918T100000
DTEND;TZID=UTC:20180918T160000
DTSTAMP:20260422T135327
CREATED:20180907T235243Z
LAST-MODIFIED:20180907T235243Z
UID:2874-1537264800-1537286400@marnitastable.org
SUMMARY:Building Resilience: Preventing Diseases of Despair
DESCRIPTION:The Catalyst Initiative of the Minneapolis Foundation invites you to join us on Tuesday\, September 18th from 10:00 a.m. to 4:00 p.m. for the 2018 unConference Building Resilience: Preventing Diseases of Despair. Please join us as we explore strategies for primary prevention of addiction and suicide. Building Resilience is an all-day event centering community voices\, emergent research\, and trauma responsive approaches to supporting individual and collective resilience\, hosted in the model of Intentional Social Interaction. Professional development certificates are available upon request. \nIf you are receiving this invitation you have been identified as someone who should receive a scholarship to participate in this critical unConference. You have also been identified as an individual who might know someone who could use a scholarship or might like to invite someone to attend. Attendance is $125 per person if you do not have a scholarship. Since you have been identified as a scholarship candidate\, there is no charge to participate. We will make every effort to provide scholarships to those you believe should be in the room as well. Scholarships are generously being provided by the Catalyst Initiative of the Minneapolis Foundation to ensure that there are no barriers to attendance by any participant. \nDate\nTuesday\, September 18th 2018 \nTime\n10:00 a.m. to 4:00 p.m. \nLocation\nSt. Mary’s Greek Orthodox Church\n3450 Irving Avenue South\nMinneapolis\, MN 55408 \nRSVP via email to elexis@marnitastable.org\nYou may also call us at 612.928.7744 \nWhat to Expect:\nExpect to be enlivened\, engaged and to expand your understanding and commitment to fostering primary prevention\, consumer education and use of non-pharmacological approaches to pain management. The morning will focus on “Naming the Issue\,” while later in the day\, facilitators will guide a focused luncheon conversation to “Harvest the Connections” and a collaborative afternoon strategy session designed to “Catalyze Action.” \nJoin us for one segment of the day or for the duration of the event! Together we will capitalize on existing energy\, make new connections and build momentum as we share an abundant feast. If you are receiving this invitation you have been identified as someone who will add and receive extraordinary value through your participation in this critical conversation. \nWe are specifically seeking a vibrant cross-cultural mix of participants from every sector. If you know someone who will add and/or receive extraordinary value through their participation feel free to reach out to someone across race\, class\, culture\, professional affiliation or age and invite them to join you! \nA complete feast is served with abundance to allay any dietary concern from vegan to halal to carnivore using the Marnita’s Table model (www.marnitastable.org) of a resource abundant environment. You are the guest of the Catalyst Initiative of The Minneapolis Foundation and there is no charge to participate because you have received a scholarship. Please dress comfortably. Children\, elders and other community members of all ages welcome! \nWe look forward to welcoming you. If you have any questions you may call Marnita’s Table at 612.928.7744. \nAbout the Catalyst Initiative of The Minneapolis Foundation: Catalyst is a field of interest fund of The Minneapolis Foundation designed to build integrative health and healing in Minnesota. \nOur Purpose: To honor and foster culturally authentic self-care practices to advance health and well-being. Catalyst taps into our innate power to heal and be well through two primary approaches: Self-care as primary care and culturally meaningful trauma healing practices. \nAbout Marnita’s Table: Marnita’s Table seeks to measurably increase social capital across race\, class\, culture\, gender and other means of self-identity in order to catalyze transformational change where racial and cultural differences are not viewed as deficits or merely tolerated\, but instead viewed as assets. Experts at social capital building\, over the past thirteen years we’ve welcomed more than 47\,000 people from around the world and the around the way to find common ground while breaking bread.
URL:https://marnitastable.org/event-calendar/building-resilience-preventing-diseases-of-despair/
LOCATION:St. Mary’s Greek Orthodox Church\, 3450 Irving Avenue South\, Minneaposli \, MN\, 55408\, United States
END:VEVENT
END:VCALENDAR