BEGIN:VCALENDAR
VERSION:2.0
PRODID:-//Marnita&#039;s Table - ECPv6.15.20//NONSGML v1.0//EN
CALSCALE:GREGORIAN
METHOD:PUBLISH
X-WR-CALNAME:Marnita&#039;s Table
X-ORIGINAL-URL:https://marnitastable.org
X-WR-CALDESC:Events for Marnita&#039;s Table
REFRESH-INTERVAL;VALUE=DURATION:PT1H
X-Robots-Tag:noindex
X-PUBLISHED-TTL:PT1H
BEGIN:VTIMEZONE
TZID:UTC
BEGIN:STANDARD
TZOFFSETFROM:+0000
TZOFFSETTO:+0000
TZNAME:UTC
DTSTART:20170101T000000
END:STANDARD
END:VTIMEZONE
BEGIN:VEVENT
DTSTART;TZID=UTC:20180923T160000
DTEND;TZID=UTC:20180923T190000
DTSTAMP:20260422T135238
CREATED:20180908T000012Z
LAST-MODIFIED:20180908T000012Z
UID:2876-1537718400-1537729200@marnitastable.org
SUMMARY:MAKE IT. MSP. Welcome Week Kick-off : Authentic Welcome
DESCRIPTION:Please be with us on Sunday\, September 23rd from 4:00 p.m. – 7:00 p.m. for a community feast and conversation! Join us as we authentically connect and discuss ways to create a welcoming Twin Cities community for all! \nFeast with us and learn how to welcome people authentically across difference in social environments. \nSunday\, September 23rd 2018\n4:00 p.m. – 7:00 p.m. \nCrystal Community Center\n4800 Douglas Dr. N\nMinneapolis\, MN 55429 \nAbout MAKE IT. MSP. Welcome Week\nMSP Welcome Week is presented in partnership with the All Are Welcome Here campaign. MSP Welcome Week will take place September 23-29\, 2018 in locations throughout the Greater MSP region. For more information\, including events and ways to support the week\, visit makeitmsp.org/msp-welcome-week. \nRSVP for all events via e-mail at https://www.makeitmsp.org/event/welcome-week-partner-kick-off/ \nDay of Event Contact:\nLauren | 612.750.1267 \nWhat to Expect\nIf you are receiving this invitation you have been identified as someone who will add and receive extraordinary value through your participation. We are specifically seeking a vibrant cross-cultural mix of participants. A delicious feast from vegan to carnivore will be served in abundance using the Marnita’s Table model of Intentional Social Interaction. Please dress comfortably. You are our guest for the day! \nYes! Children and teens are welcome!\nYes! This event is open to the public and free to participate! \nAbout Marnita’s Table\nMarnita’s Table seeks to measurably increase social capital across race\, class\, culture\, gender and other means of self-identity in order to catalyze transformational change where racial and cultural differences are not viewed as deficits or merely tolerated\, but instead viewed as assets. Experts at social capital building\, in the past ten years we’ve welcomed over 46\,000 people from around the world and the around the way to find common ground while breaking bread. Check out our website www.marnitastable.org for more information.
URL:https://marnitastable.org/event-calendar/make-it-msp-welcome-week-kick-off-authentic-welcome/
LOCATION:Crystal Community Center\, 4800 Douglas Dr. North\, Minneapolis\, MN\, 55429\, United States
END:VEVENT
END:VCALENDAR