BEGIN:VCALENDAR
VERSION:2.0
PRODID:-//Marnita&#039;s Table - ECPv6.15.20//NONSGML v1.0//EN
CALSCALE:GREGORIAN
METHOD:PUBLISH
X-WR-CALNAME:Marnita&#039;s Table
X-ORIGINAL-URL:https://marnitastable.org
X-WR-CALDESC:Events for Marnita&#039;s Table
REFRESH-INTERVAL;VALUE=DURATION:PT1H
X-Robots-Tag:noindex
X-PUBLISHED-TTL:PT1H
BEGIN:VTIMEZONE
TZID:UTC
BEGIN:STANDARD
TZOFFSETFROM:+0000
TZOFFSETTO:+0000
TZNAME:UTC
DTSTART:20170101T000000
END:STANDARD
END:VTIMEZONE
BEGIN:VTIMEZONE
TZID:America/Chicago
BEGIN:DAYLIGHT
TZOFFSETFROM:-0600
TZOFFSETTO:-0500
TZNAME:CDT
DTSTART:20230312T080000
END:DAYLIGHT
BEGIN:STANDARD
TZOFFSETFROM:-0500
TZOFFSETTO:-0600
TZNAME:CST
DTSTART:20231105T070000
END:STANDARD
BEGIN:DAYLIGHT
TZOFFSETFROM:-0600
TZOFFSETTO:-0500
TZNAME:CDT
DTSTART:20240310T080000
END:DAYLIGHT
BEGIN:STANDARD
TZOFFSETFROM:-0500
TZOFFSETTO:-0600
TZNAME:CST
DTSTART:20241103T070000
END:STANDARD
BEGIN:DAYLIGHT
TZOFFSETFROM:-0600
TZOFFSETTO:-0500
TZNAME:CDT
DTSTART:20250309T080000
END:DAYLIGHT
BEGIN:STANDARD
TZOFFSETFROM:-0500
TZOFFSETTO:-0600
TZNAME:CST
DTSTART:20251102T070000
END:STANDARD
BEGIN:DAYLIGHT
TZOFFSETFROM:-0600
TZOFFSETTO:-0500
TZNAME:CDT
DTSTART:20260308T080000
END:DAYLIGHT
BEGIN:STANDARD
TZOFFSETFROM:-0500
TZOFFSETTO:-0600
TZNAME:CST
DTSTART:20261101T070000
END:STANDARD
BEGIN:DAYLIGHT
TZOFFSETFROM:-0600
TZOFFSETTO:-0500
TZNAME:CDT
DTSTART:20270314T080000
END:DAYLIGHT
BEGIN:STANDARD
TZOFFSETFROM:-0500
TZOFFSETTO:-0600
TZNAME:CST
DTSTART:20271107T070000
END:STANDARD
END:VTIMEZONE
BEGIN:VEVENT
DTSTART;TZID=UTC:20181113T090000
DTEND;TZID=UTC:20181113T110000
DTSTAMP:20260422T171051
CREATED:20181018T001940Z
LAST-MODIFIED:20181018T001940Z
UID:2936-1542099600-1542106800@marnitastable.org
SUMMARY:Tea at the Table
DESCRIPTION:Have you been to a Marnita’s Table event and left wanting to know more about Marnita’s Table? Is your community\, organization\, church\, or school in need of Intentional Social Interaction? We invite you to join us for Tea at the Table on Tuesday\, November 13th\, 2018 from 9:00-11:00 a.m. – a fun and informative session to get your questions answered!Location:Marnita’s Table Office2136 Penn Avenue SouthMinneapolis\, Minnesota 55405 \nYes! This event is free to participants.Yes! This session is open to the public. \nYes! There will be delicious food.\nPlease RSVP via email to Lauren@marnitastable.org or give us a call at 612.928.7744
URL:https://marnitastable.org/event-calendar/tea-at-the-table-3/
LOCATION:Marnita’s Table Office\, 2136 Penn Avenue South \, Minneapolis\, MN\, 55419\, United States
END:VEVENT
BEGIN:VEVENT
DTSTART;TZID=UTC:20181129T180000
DTEND;TZID=UTC:20181129T210000
DTSTAMP:20260422T171051
CREATED:20181120T022509Z
LAST-MODIFIED:20181120T022646Z
UID:3245-1543514400-1543525200@marnitastable.org
SUMMARY:A Healthy Welcome! Eastern Carver County IZI
DESCRIPTION:Please join us on Thursday\, November 29th from 6-9pm for A Healthy Welcome! in Eastern Carver County. \nJoin Carver County Public Health for the second in a series of conversations about community health and wellness. \n Yes! This event is free. \nYes! Dinner is provided. \nYes! Children and youth are welcome. \nYes! We will help you find transportation. Call us before the day of the event! \nNo uniforms! Dress comfortably! \n 
URL:https://marnitastable.org/event-calendar/3245/
LOCATION:Waconia Middle School\, 1400 Community Dr\, Waconia\, MN\, 55387\, United States
ORGANIZER;CN="Marnita's Table":MAILTO:info@marnitastable.org
END:VEVENT
BEGIN:VEVENT
DTSTART;TZID=UTC:20190129T090000
DTEND;TZID=UTC:20190129T110000
DTSTAMP:20260422T171051
CREATED:20190105T031543Z
LAST-MODIFIED:20190105T031543Z
UID:3350-1548752400-1548759600@marnitastable.org
SUMMARY:Tea at the Table
DESCRIPTION:Have you been to a Marnita’s Table event and left wanting to know more about Marnita’s Table? Is your community\, organization\, church\, or school in need of Intentional Social Interaction? We invite you to join us for Tea at the Table on Tuesday\, January 29th\, 2019 from 9:00-11:00 a.m. – a fun and informative session to get your questions answered!Location:Marnita’s Table Office2136 Penn Avenue SouthMinneapolis\, Minnesota 55405 \nYes! This event is free to participants.Yes! This session is open to the public. \nYes! There will be delicious food.\nPlease RSVP via email to Lauren@marnitastable.org or give us a call at 612.928.7744
URL:https://marnitastable.org/event-calendar/tea-at-the-table-4/
LOCATION:MN
END:VEVENT
BEGIN:VEVENT
DTSTART;TZID=UTC:20190202T113000
DTEND;TZID=UTC:20190202T143000
DTSTAMP:20260422T171051
CREATED:20190109T222514Z
LAST-MODIFIED:20190109T222514Z
UID:3352-1549107000-1549117800@marnitastable.org
SUMMARY:Marnita's Table Dinner Host Training - GenConnect
DESCRIPTION:Please join us for a GenConnect training on Saturday\, February 2nd from 11:30 a.m. – 2:30 p.m.  \n\nLet’s make everyone feel welcome in our community this year! We’ll share conversation tools and recipes from vegan to carnivore for connecting with others across generational and other differences! At this feast and training you will learn tips and tricks for throwing an inclusive party.  Each participant will receive their own materials and tools for hosting a fun and engaging event. \n\nYes! All ages are welcome and encouraged to join us!\nYes! This event is open to the public and free to participate!\nYes! Children are welcome! \n\nSaturday\, February 2\, 2019 \n11:30 a.m. – 2:30 p.m.\nNeighborhood House\n179 Robie Street E\nSt. Paul\, MN 55107\n\nAbout GenConnect\nGenConnect is an initiative to connect people across differences\, who may not have met before\, but share similar interests and concerns\, in order to facilitate deeper conversations and build capacity for collaborative undertakings. \n\nLearn more: marnitastable.org/genconnect \n\nRSVP via e-mail at lauren@marnitastable.org \nYou may also call us at 612.928.7744\n\nDay of Event Contact: \nLauren | 612.750.1267\n\nWhat to Expect\nIf you are receiving this invitation you have been identified as someone who will add and receive extraordinary value through your participation. We are specifically seeking a vibrant cross-cultural mix of hosts and co-hosts. If you know someone across race\, class\, culture or age who might be an excellent host or co-host we highly encourage you to invite them to join you! \n\nA delicious feast from vegan to carnivore will be served in abundance using the Marnita’s Table model of Intentional Social Interaction. Please dress comfortably. You are our guest for the day! This community supper and dialogue has been made possible thanks to the generosity of the Itasca Project and the Bush Foundation.\n \nAbout the Itasca Project\nThe Itasca Project is a virtual organization dedicated to collaborative efforts toward regional economic vitality\, quality of life\, and prosperity for all. For more information\, please visit our website at  www.theitascaproject.com. \n\nAbout Marnita’s Table\nMarnita’s Table seeks to measurably increase social capital across race\, class\, culture\, gender and other means of self-identity in order to catalyze transformational change where racial and cultural differences are not viewed as deficits or merely tolerated\, but instead viewed as assets. Experts at social capital building\, in the past thirteen years we’ve welcomed over 50\,000 people from around the world and the around the way to find common ground while breaking bread. Check out our website www.marnitastable.org for more information.  
URL:https://marnitastable.org/event-calendar/marnitas-table-dinner-host-training-genconnect/
LOCATION:Neighborhood House\, 179 Robie Street E\, St. Paul\, MN\, 55107\, United States
END:VEVENT
BEGIN:VEVENT
DTSTART;TZID=America/Chicago:20240528T180000
DTEND;TZID=America/Chicago:20240528T210000
DTSTAMP:20260422T171051
CREATED:20240517T234142Z
LAST-MODIFIED:20240517T234147Z
UID:17566-1716919200-1716930000@marnitastable.org
SUMMARY:Engage! Pathways to Racial Equity in Medicaid Duluth
DESCRIPTION:This event is part of a series of conversations to inform the Minnesota Department of Human Services on priorities to improve the health and opportunity of American Indian communities.
URL:https://marnitastable.org/event-calendar/engage-pathways-to-racial-equity-in-medicaid-duluth/
LOCATION:Duluth Public Schools District Services Center\, 709 Portia Johnson Drive\, Duluth\, Minnesota\, 55811
ORGANIZER;CN="Marnita's Table":MAILTO:info@marnitastable.org
END:VEVENT
BEGIN:VEVENT
DTSTART;TZID=America/Chicago:20240605T180000
DTEND;TZID=America/Chicago:20240605T210000
DTSTAMP:20260422T171051
CREATED:20240517T234448Z
LAST-MODIFIED:20240517T234554Z
UID:17585-1717610400-1717621200@marnitastable.org
SUMMARY:Engage! Pathways to Racial Equity in Medicaid MPLS
DESCRIPTION:This event is part of a series of conversations to inform the Minnesota Department of Human Services on priorities to improve the health and opportunity of American Indian communities.
URL:https://marnitastable.org/event-calendar/pathways-mpls/
LOCATION:Minneapolis American Indian Center\, 1530 East Franklin\, Minneapolis\, MN\, 55404\, United States
END:VEVENT
BEGIN:VEVENT
DTSTART;TZID=America/Chicago:20240611T180000
DTEND;TZID=America/Chicago:20240611T180000
DTSTAMP:20260422T171051
CREATED:20240517T234850Z
LAST-MODIFIED:20240517T234954Z
UID:17591-1718128800-1718128800@marnitastable.org
SUMMARY:Engage! Pathways to Racial Equity in Medicaid Bemidji
DESCRIPTION:This event is part of a series of conversations to inform the Minnesota Department of Human Services on priorities to improve the health and opportunity of American Indian communities.
URL:https://marnitastable.org/event-calendar/pathways-bemidji/
LOCATION:Carnegie Library\, 426 Bemidji Avenue North\, Bemidji\, 56601\, United States
ORGANIZER;CN="Marnita's Table":MAILTO:info@marnitastable.org
END:VEVENT
BEGIN:VEVENT
DTSTART;TZID=America/Chicago:20250916T140000
DTEND;TZID=America/Chicago:20250916T153000
DTSTAMP:20260422T171051
CREATED:20250908T171410Z
LAST-MODIFIED:20250908T172509Z
UID:18726-1758031200-1758036600@marnitastable.org
SUMMARY:Tea at the Table
DESCRIPTION:Audience: Open to all! \nJoin Us on Zoom for Tea at the Table!\nTeamTable would love for you to join us at one of our upcoming digital “Tea at the Table” briefings! If you or anyone with whom you work\, learn\, or play would value receiving a great overview of Marnita’s Table’s proven model of Intentional Social Interaction (IZI) grounded in embodied practices of Reciprocal Connection and Inclusive Belonging. \nCome for a minute or stay the entire time. \nPotential session dates (depending on interest):\nTuesday 9/16/2025 2pm – 3:30pm Central Time\nThursday 9/25/2025 7pm – 8:30pm Central Time \nReserve Your Spot!\nReserve your spot by emailing Jules@marnitastable.org We will send the Zoom link a few days before each event.
URL:https://marnitastable.org/event-calendar/tea-at-the-table-5/
LOCATION:MN
END:VEVENT
BEGIN:VEVENT
DTSTART;TZID=America/Chicago:20250925T190000
DTEND;TZID=America/Chicago:20250925T203000
DTSTAMP:20260422T171051
CREATED:20250908T171622Z
LAST-MODIFIED:20250908T172435Z
UID:18728-1758826800-1758832200@marnitastable.org
SUMMARY:Tea at the Table
DESCRIPTION:Audience: Open to all! \nJoin Us on Zoom for Tea at the Table!\nTeamTable would love for you to join us at one of our upcoming digital “Tea at the Table” briefings! If you or anyone with whom you work\, learn\, or play would value receiving a great overview of Marnita’s Table’s proven model of Intentional Social Interaction (IZI) grounded in embodied practices of Reciprocal Connection and Inclusive Belonging. \nCome for a minute or stay the entire time. \nPotential session dates (depending on interest):\nTuesday 9/16/2025 2pm – 3:30pm Central Time\nThursday 9/25/2025 7pm – 8:30pm Central Time \nReserve Your Spot!\nReserve your spot by emailing Jules@marnitastable.org We will send the Zoom link a few days before each event.
URL:https://marnitastable.org/event-calendar/tea-at-the-table-6/
LOCATION:MN
END:VEVENT
BEGIN:VEVENT
DTSTART;TZID=America/Chicago:20251014T170000
DTEND;TZID=America/Chicago:20251014T193000
DTSTAMP:20260422T171051
CREATED:20250908T161425Z
LAST-MODIFIED:20250908T172718Z
UID:18718-1760461200-1760470200@marnitastable.org
SUMMARY:Conversations on Race: Our Voices\, Our Stories
DESCRIPTION:Audience: St. Cloud Community \nWelcome to Conversations on Race: Our Voices\, Our Stories! Join us at St. Cloud Technical & Community College for an engaging event where we discuss race\, share our experiences\, and listen to each other’s stories. This in-person gathering aims to foster understanding\, empathy\, and unity within our community. Let’s come together to learn from one another and create a more inclusive society. Don’t miss out on this opportunity to be part of the conversation! \nJoin us for the annual Conversation on Race event on Tuesday\, October 14\, 2025\, from 5:00 PM to 7:30 PM at St. Cloud Technical and Community College. This year’s event features a transformational meal and conversation brought to us by Marnita’s Table. Don’t miss this opportunity to be part of an important community dialogue and contribute to building a more inclusive St. Cloud. \nClick Here to Register now to secure your spot!
URL:https://marnitastable.org/event-calendar/conversations-on-race-our-voices-our-stories/
LOCATION:MN
END:VEVENT
BEGIN:VEVENT
DTSTART;TZID=America/Chicago:20251027T100000
DTEND;TZID=America/Chicago:20251027T163000
DTSTAMP:20260422T171051
CREATED:20250908T160917Z
LAST-MODIFIED:20250908T160917Z
UID:18711-1761559200-1761582600@marnitastable.org
SUMMARY:Collaborating for a Dementia-Friendly Washington: Building Momentum
DESCRIPTION:Collaborating for a Dementia-Friendly Washington: Building Momentum. A gathering to promote the growth of dementia-friendly communities in our state. \nMonday\, October 27\, 2025\n10 a.m. – 4:30 p.m.\nTukwila Community Center\n12424 42nd Ave S. Tukwila\, WA \n• Connect with others who share your commitment\n• Be inspired by innovative models\n• Discover steps to make your community more dementia-friendly! \nOrganized by the UW Memory and Brain Wellness Center\, on behalf of the Washington State Dementia Action Collaborative\, with primary funding provided by the Aging and Long Term Support Administration\, and with a planning committee made up of advisors from across the state. \nA dementia-friendly community is a town\, city or region committed to the full inclusion of people with dementia and their families in community life. \nWHO SHOULD ATTEND?\nThis conference is for anyone who wants to take action to make their community more dementia-friendly\, including people with dementia\, caregivers\, and people who work in a variety of public settings: \n• Aging and senior services\n• Arts and culture\n• Chambers of commerce\n• City\, state\, tribal government\n• Community centers\n• Cultural associations\n• Faith communities\n• Libraries\n• Neighborhood groups\n• Parks and recreation\n• Service clubs\n• Social or health care services \nLearn more and register beginning August 27: tinyurl.com/DementiaFriendlyWA2025 \nQuestions: Marigrace Becker mbecker1@uw.edu 206-543-2440 \nCONFERENCE HIGHLIGHTS: \n\nDiscover key steps you can take to make your community dementia-friendly\, with a keynote from Casey Venturini\, the lead for Dementia Friendly Nevada\nBe empowered by in-depth breakout sessions on topics such as:\n\nHow a new national initiative to expand Memory Cafes can build social connection among people with dementia\nStrategies for engaging diverse communities in dementia awareness and support\nHands-on demonstrations of dementia-friendly arts programs like the Frye Art Museum’s Creative Aging program\n\n\nBe inspired by “Lightening Talks” showcasing dementia-friendly innovations – such as Amy’s Place\, a new dementia-friendly community center in a Bellingham Mall\n\nREGISTRATION (includes lunch):\nCommunity Rate – $30\nProfessional Rate – $50\nScholarship Rate – FREE \nLearn more and register beginning August 27: tinyurl.com/DementiaFriendlyWA2025 \nA Meaningful Meal…\nDuring the event\, enjoy a delicious catered lunch together while exploring what it means to have a dementia-friendly community. In this facilitated experience\, Marnita Schroedl of Marnita’s Table will guide us through a time of sharing\, learning and peer-to-peer connection. Based in Minnesota\, Marnita’s Table specializes in building bridges of understanding across difference.
URL:https://marnitastable.org/event-calendar/collaborating-for-a-dementia-friendly-washington-building-momentum/
LOCATION:Tukwila Community Center\, 12424 42nd Ave S.\, Tukwila\, WA\, 98168\, United States
END:VEVENT
BEGIN:VEVENT
DTSTART;TZID=America/Chicago:20251103T080000
DTEND;TZID=America/Chicago:20251103T170000
DTSTAMP:20260422T171051
CREATED:20251103T215349Z
LAST-MODIFIED:20251103T215349Z
UID:18767-1762156800-1762189200@marnitastable.org
SUMMARY:Engage! Sharing our Voices for Community Education
DESCRIPTION:Please join us on Thursday\, November 13 from 6:00 – 9:00 pm for Engage! Sharing our Voices for Community Education\, a special opportunity to share a community meal and discuss what our students\, elders\, neighbors and families need to thrive as we celebrate National Community Education Day! You’ll learn more about educational offerings\, extra-curricular activities and resources available through ISD 622 Community Education. Meet the team and share your voice for how to improve Community Education! \nPlease join us if you have ideas or would like to learn more about the following: GED classes\, English classes for adults\, programs for adults with disabilities\, senior programming\, driver’s education\, swim lessons\, water safety instructor & lifeguard training\, water aerobics\, enrichment opportunities for all ages from preschool through adult\, parent programming\, before – and after – school care\, non-school day and summer child care\, and youth enrichment and leadership opportunities. \nThere are two options to join us! You’re welcome to attend one or both conversations! \nJoin us in-person:\nThursday\, November 13 from 6:00 p.m. – 9:00 p.m.\nGladstone Community Education Center\n1945 Manton St\, Maplewood\, MN 55109\n612-750-1267 (day of/questions) \n-or- \nJoin us on Zoom:\nTuesday\, December 9 from 6:00 p.m. – 8:30 p.m.\nWe will send you the Zoom link a few days before the conversation. \nRSVP Here! Click this link to join us! If you plan to attend\, please use the QR code on the attached flyer \nQuestions? Email Lauren@marnitastable.org or leave a message at (612) 928-7744 \nYes! This event is free.\nYes! Dinner is provided.\nYes! Transportation can be arranged in advance\, if needed.\nYes! You can invite anyone you think would add or receive value from joining us!\nYes! Interpreters and ASL available (please request on the RSVP form at least a week in advance).\nYes! We’ll help you get connecting on Zoom. \nWhat to expect?\nExpect to be enlivened and engaged as we come together in community to share our experiences\, catalyze connections across differences\, and support one another using the Marnita’s Table model of Intentional Social Interaction. If you know someone who would add and receive value through their participation\, feel free to invite them to join you. Many community allies and partners are inviting community members to this conversation. As a result\, you may receive more than one invitation. We will try to accommodate as many participants as possible\, so please let us know if you plan to be with us. Come for 5 minutes or stay for the whole time. \nAbout ISD 622 Community Education\nDistrict 622’s mission is to inspire lifelong learners who thrive in diverse communities. Community Education provides lifelong learning experiences for people of all ages\, abilities and culture through community-based programs and services. Learn more at: https://communityeducation.isd622.org/ \n❖ Free educational programs and services (GED\, English\, and basic skills classes)\n❖ Programs for adults with disabilities with support and accommodations for participation\n❖ Senior Programs for older adults (educational\, recreational\, social and health/wellness)\n❖ Driver’s Education offered at both North and Tartan High Schools\n❖ Swim lessons\, water safety instructor & lifeguard training\, and water aerobics.\n❖ Rent district spaces for a variety of activities by groups and organizations\n❖ Programming for families with children from birth to kindergarten age with classes that include parent discussions and parent-child activities.\n❖ Adult learning opportunities (explore new skills and interests)\n❖ Before and after-school\, non-school day\, and summer child care\n❖ Leadership youth programming\n❖ Fun enrichment activities offered to children and youth after school\, during the evening hours\, Saturdays\, non-school days and summers. \nAbout Marnita’s Table\nMarnita’s Table seeks to close gaps across difference through making Intentional Social Interaction (“IZI”) / Digital Intentional Social Interaction (“dIZI”) the new pattern for society. Our model ensures those who are traditionally unheard and excluded are actively and intentionally welcomed and valued at the policy-making and resource-sharing table including IBPOC; women and gender expansive people; the disenfranchised; the poor; those who are LGBTQIA2s+; those who live with disabilities or other abilities; and those from communities historically and currently pushed to the margins. Experts at social capital building\, we’ve welcomed over 200\,000 guests to thousands of different tables across the U.S. and internationally to find common ground while breaking bread – we bring people together to create meaningful change and more equitable systems. Find out more at marnitastable.org.
URL:https://marnitastable.org/event-calendar/engage-sharing-our-voices-for-community-education/
LOCATION:Gladstone Education Center\, 1945 Manton St\, Maplewood\, MN\, 55109\, United States
ATTACH;FMTTYPE=image/jpeg:https://marnitastable.org/wp-content/uploads/2025/11/4.0-November-13-Community-Education-IZI-1-scaled.jpg
END:VEVENT
BEGIN:VEVENT
DTSTART;TZID=America/Chicago:20260501T100000
DTEND;TZID=America/Chicago:20260501T160000
DTSTAMP:20260422T171051
CREATED:20260212T155941Z
LAST-MODIFIED:20260219T032451Z
UID:18807-1777629600-1777651200@marnitastable.org
SUMMARY:Connect! Imagine! Ignite! 2026
DESCRIPTION:Get ready to Connect! Imagine! Ignite!\n			\n				Register Here!\n			\n			\n				\n				\n				\n				\n			\n				\n				\n				\n				\n				\n				\n				\n				\n				\n				\n				Registration:\nEarly bird special ends March 21st 2026 Register before then for 15% off!\nProfessional Rate: $88\nCommunity Rate: $45\nStudent / Youth Rate: $29\nScholarship: Send an email with one paragraph to jules@marnitastable.org to request a complimentary registration.\nRegistration includes all meals\, summit materials\, and processing fees. Space is limited and demand is high! Take advantage of the early registration discount of 15%! Secure your place today!
URL:https://marnitastable.org/event-calendar/connect-imagine-ignite/
LOCATION:Shoreview Community Center\, 4580 Victoria St N\, Shoreview\, MN\, 55126\, United States
END:VEVENT
END:VCALENDAR