BEGIN:VCALENDAR
VERSION:2.0
PRODID:-//Marnita&#039;s Table - ECPv6.15.20//NONSGML v1.0//EN
CALSCALE:GREGORIAN
METHOD:PUBLISH
X-ORIGINAL-URL:https://marnitastable.org
X-WR-CALDESC:Events for Marnita&#039;s Table
REFRESH-INTERVAL;VALUE=DURATION:PT1H
X-Robots-Tag:noindex
X-PUBLISHED-TTL:PT1H
BEGIN:VTIMEZONE
TZID:UTC
BEGIN:STANDARD
TZOFFSETFROM:+0000
TZOFFSETTO:+0000
TZNAME:UTC
DTSTART:20160101T000000
END:STANDARD
END:VTIMEZONE
BEGIN:VEVENT
DTSTART;TZID=UTC:20170401T110000
DTEND;TZID=UTC:20170401T140000
DTSTAMP:20260423T174055
CREATED:20170225T005133Z
LAST-MODIFIED:20170308T014318Z
UID:1386-1491044400-1491055200@marnitastable.org
SUMMARY:Creating a Compassionate Community: Tips & Techniques for Holistic Wellness
DESCRIPTION:Please join the community of Winona\, the Catalyst Initiative of the George Family Foundation and Marnita’s Table on Saturday\, April 1st 2017 from 11 a.m. to 2 p.m. for a brunch feast and exploration of Creating a Compassionate Community: Tips & Techniques for Holistic Wellness. \nLocation:\nCotter Schools Gymnasium\n360 Vila Street\nWinona\, MN \nYes\, this event is free to attend!\nYes\, kids and teenagers are welcome! \nWinona has come together to improve the health and well-being of our community in this work with the Catalyst Initiative of the George Family Foundation and Marnita’s Table.  This gathering has been inspired by a number of important opportunities identified by community members through a community needs assessment\, many agency partnerships\, and the 2016 Engage Winona convenings.  The human spirit benefits from a sense of community and social support\, which in-turn helps us to be more resilient and generates compassion for both ourselves and others. \nWhat to Expect:\nExpect to be enlivened\, engaged and to expand your understanding of integrative healing and wellness\, as we explore what it means to create compassionate communities and build our collective capacity for resilience. Together we will capitalize on existing energy\, make new connections and build momentum as we share an abundant feast. \nIf you are receiving this invitation you have been identified as someone who will add and receive extraordinary value through your participation in this critical conversation. We are specifically seeking a vibrant cross-cultural mix of participants. If you know someone who will add and/or receive extraordinary value through their participation feel free to reach out to someone across race\, class\, culture or age and invite them to join you! \nOur Intentional Social Interaction (IZI) is an inclusive forum to exchange ideas and build relationships across age\, ethnicity and other means of self-identity in order to catalyze positive action toward building community resilience. You will learn actionable ideas about how to improve health outcomes and explore new tips and techniques for holistic self-care and building individual capacity for health and healing. \nA complete feast is served with abundance to allay any dietary concern from vegan to halal to carnivore using the Marnita’s Table model (www.marnitastable.org) of a resource abundant environment where all can eat their fill! You are the guest of the Catalyst Initiative of the George Family Foundation and there is no charge to participate. Please dress comfortably. \nPlease let us know if you plan to be with us by sending an RSVP via e-mail to sammie@marnitastable.org. \nWe look forward to welcoming you.  If you have any questions you may call Marnita’s Table at 612.928.7744.
URL:https://marnitastable.org/event-calendar/creating-compassionate-community-tips-techniques-holistic-wellness/
LOCATION:Cotter Schools Gymnasium
END:VEVENT
BEGIN:VEVENT
DTSTART;TZID=UTC:20170420T180000
DTEND;TZID=UTC:20170420T210000
DTSTAMP:20260423T174055
CREATED:20170405T234116Z
LAST-MODIFIED:20170405T234116Z
UID:1537-1492711200-1492722000@marnitastable.org
SUMMARY:Deer River Schools Visioning
DESCRIPTION:Deer River School District and Marnita’s Table invites you to join us for a community feast and dialogue for Visioning Full Service Community Schools in Deer River on Thursday\, April 20th from 6 – 9 p.m.\n \nDuring our time together\, we will explore the feedback received in our first three community engagement meetings and develop shared priorities for the next steps in realizing the Full Service School model in our community. \nYes! This is event is free!\nYes! Children and teenagers welcome.\nYes! We will help with transportation. \nCommunity Location:\nDeer River High School Commons \nRSVP via e-mail to chadevans@isd317.org or call 218-398-2046 to arrange transportation and let us know you will be coming! \nWhat to Expect:\nExpect to be enlivened\, engaged and to have fun as we share a delicious and abundant meal\, served with consideration for any diet\, using the Marnita’s Table model (marnitastable.org) of Intentional Social Interaction!  Dress comfortably and be prepared to learn and share thoughts on how we can work together to create full service schools in the Deer River School District.  You are our guest and there is no charge to participate. \nAbout Marnita’s Table\nMarnita’s Table seeks to measurably increase social capital across race\, class\, culture\, gender and other means of self-identity in order to catalyze transformational change where racial and cultural differences are not viewed as deficits or merely tolerated\, but instead viewed as assets. Experts at social capital building\, in the past ten years we’ve welcomed over 27\,000 people from around the world and the around the way to find common ground while breaking bread. \nIf you would like to learn more about Marnita’s Table\, go to marnitastable.org.
URL:https://marnitastable.org/event-calendar/deer-river-schools-visioning/
LOCATION:MN
END:VEVENT
END:VCALENDAR