BEGIN:VCALENDAR
VERSION:2.0
PRODID:-//Marnita&#039;s Table - ECPv6.15.20//NONSGML v1.0//EN
CALSCALE:GREGORIAN
METHOD:PUBLISH
X-WR-CALNAME:Marnita&#039;s Table
X-ORIGINAL-URL:https://marnitastable.org
X-WR-CALDESC:Events for Marnita&#039;s Table
REFRESH-INTERVAL;VALUE=DURATION:PT1H
X-Robots-Tag:noindex
X-PUBLISHED-TTL:PT1H
BEGIN:VTIMEZONE
TZID:UTC
BEGIN:STANDARD
TZOFFSETFROM:+0000
TZOFFSETTO:+0000
TZNAME:UTC
DTSTART:20160101T000000
END:STANDARD
END:VTIMEZONE
BEGIN:VEVENT
DTSTART;TZID=UTC:20170504T180000
DTEND;TZID=UTC:20170504T210000
DTSTAMP:20260423T160010
CREATED:20170411T020036Z
LAST-MODIFIED:20170421T191029Z
UID:1542-1493920800-1493931600@marnitastable.org
SUMMARY:YMCA of the Greater Twin Cities Include Me!
DESCRIPTION:We hope you will join the YMCA of the Greater Twin Cities and Marnita’s Table on Thursday\, May 4th from 6-9 p.m. for Include Me! This IZI feast and dialogue is a vibrant opportunity to engage with others from the community and the YMCA on the intersections between inclusion\, leadership and youth development! \nLocation:\nProgressive Baptist Church\n1505 Burns Ave\nSt. Paul\, MN 55106\n6:00 – 9:00 p.m. \nRSVP to elexis@marnitastable.org or give us a call at 612-928-7744. \nIf you are receiving this invitation\, you have been identified as someone who will add and receive extraordinary value through your participation in this conversation. We are specifically seeking a vibrant cross-cultural mixing of individuals for this engaged and supportive conversation. If you know someone who will add and receive extraordinary value through their participation feel free to reach out to someone across race\, class\, culture or age and invite them to join you! \nYes! This event is free!\nYes! Children and especially teens are welcome!\nYes! We will help you find transportation!\nBring your friends and family!\nNo uniforms! Dress comfortably and casually! \nWhat to Expect\nAn engaging community conversation that helps catalyze your own cross-cultural competency and understanding while centering the unique and varied voices and experiences of all participants equally! Dinner is served in abundance to allay any dietary concern from vegan to carnivore using the Marnita’s Table model of Intentional Social Interaction (“IZI”). You are our guest for the feast! \nSpace is limited and demand is high. We will try to accommodate as many participants as possible\, so please let us know if you plan to be with us via e-mail: elexis@marnitastable.org or call: 612.928.7744. \nIf you would like to learn more about Marnita’s Table\, go to marnitastable.org.
URL:https://marnitastable.org/event-calendar/include-me/
LOCATION:Progressive Baptist Church\, 1505 Burns Ave\, St. Paul\, MN\, 55106\, United States
END:VEVENT
BEGIN:VEVENT
DTSTART;TZID=UTC:20170509T180000
DTEND;TZID=UTC:20170509T210000
DTSTAMP:20260423T160010
CREATED:20170406T003236Z
LAST-MODIFIED:20170427T231958Z
UID:1539-1494352800-1494363600@marnitastable.org
SUMMARY:Cass Lake-Bena Public Schools Community Dinner and Conversation
DESCRIPTION:Please join Cass Lake-Bena Public Schools on Tuesday\, May 9th from 6 p.m. – 9 p.m. for a community dinner and conversation. Come give your feedback on the school district’s educational and facilities needs over a delicious meal! Drop by for a bit or stay for the whole time. Your voices are valuable and we want your input! \nYes\, this event is free!\nYes\, teenagers are welcome!\nYes\, children are welcome!\nYes\, please invite other members of our community! \nTransportation provided if needed.\nCall 218-214-2389 right away to arrange a ride! \nLocation:\nCass Lake-Bena Elementary\n15 4th St NE\,\nCass Lake\, MN 56633 \nDay-of contact:\nSammie Ardito Rivera\n(218) 214-2389 \nWhat to Expect:\nExpect to be engaged and to have fun as we share a delicious meal in the Marnita’s Table model (marnitastable.org) of Intentional Social Interaction!  Dress comfortably and be prepared to learn and share thoughts on the educational and facilities needs in our Cass Lake Public schools. \nCass Lake area board\, administrators\, teachers and students are all inviting community members to this conversation. You may receive more than one invitation. We want to ensure we have enough food for all so please let us know if you plan to be with us by sending an RSVP via e-mail to sammie@marnitastable.org.  If you have any questions or would like to RSVP via please phone call us at (218) 214-2389. \nWe look forward to welcoming you for this community conversation.  We look forward to having you join us!
URL:https://marnitastable.org/event-calendar/cass-lake-bena-publlic-schools-community-feast-dialogue/
LOCATION:MN
END:VEVENT
BEGIN:VEVENT
DTSTART;TZID=UTC:20170513T150000
DTEND;TZID=UTC:20170513T180000
DTSTAMP:20260423T160010
CREATED:20170426T002314Z
LAST-MODIFIED:20170510T003536Z
UID:1580-1494687600-1494698400@marnitastable.org
SUMMARY:Table at St. Olaf I Have a Dream Graduation Party
DESCRIPTION:We hope you will join the Table at St. Olaf and Marnita’s Table on Saturday\, May 13th from 3-6 p.m. for I Have a Dream Graduation Party! This IZI feast and dialogue is a vibrant opportunity to celebrate and support students who plan to go onto college\, those who are in college and are graduating\, as well as to encourage and inspire high school and middle school to finish high school and access higher education. Everyone has a dream for themselves for the future. Come share yours! \nWe’d love for you to share this information with your friends\, students with whom you work\, as well as to discuss with you the possibility of bringing a group of the students with whom you work to participate and share in this amazing day.  There is no charge to your organization for students to participate or attend! And\, if you let us know at least a week in advance\, we’ll even put the names of your graduating students on the celebration cakes! \n\nLocation:\nTable at St. Olaf\n1304 Saint Olaf Avenue\nNorthfield\, MN 55057\n3:00 – 6:00 p.m.\n\nRSVP to Lauren@marnitastable.org or give us a call at (612) 928-7744.\n\nIf you are receiving this invitation\, you have been identified as someone who will add and receive extraordinary value through your participation in this conversation. We are specifically seeking a vibrant cross-cultural mixing of individuals for this engaged and supportive conversation. If you know someone who will add and receive extraordinary value through their participation feel free to reach out to someone across race\, class\, culture or age and invite them to join you! \nYes! This event is free!\nYes! Children and especially teens are welcome!\nYes! We will help you find transportation!\nBring your friends and family!\nNo uniforms! Dress comfortably and casually! \nWhat to Expect\nAn engaging community conversation that helps catalyze your own cross-cultural competency and understanding while centering the unique and varied voices and experiences of all participants equally! Dinner is served in abundance to allay any dietary concern from vegan to carnivore using the Marnita’s Table model of Intentional Social Interaction (“IZI”). You are our guest for the feast! \nSpace is limited and demand is high. We will try to accommodate as many participants as possible\, so please let us know if you plan to be with us! \nIf you would like to learn more about Marnita’s Table\, go to marnitastable.org.
URL:https://marnitastable.org/event-calendar/dream-graduation-party/
LOCATION:Table at St. Olaf\, 1212 Saint Olaf Avenue\, Northfield\, MN\, 55057
END:VEVENT
BEGIN:VEVENT
DTSTART;TZID=UTC:20170517T080000
DTEND;TZID=UTC:20170517T100000
DTSTAMP:20260423T160010
CREATED:20170426T001144Z
LAST-MODIFIED:20170426T002550Z
UID:1575-1495008000-1495015200@marnitastable.org
SUMMARY:Tea at the Table Info Session
DESCRIPTION:It’s that time again! Marnita’s Table is having our bimonthly “Tea Time at the Table” info session. \nHave you been to an IZI or the Building Resilience conference and left wanting to know more about Marnita’s Table? Is your community\, organization\, church\, or school in need of Intentional Social Interaction? We invite you to join us for Tea at the Table on Wednesday\, May 17\, 2017 from 8:00-10:00AM – a fun and informative session to get your questions answered! \nThese info sessions will be held every two months\, so don’t worry if you can’t make it to this one! We look forward to welcoming you in the future. \nLocation: \nMarnita’s Table Office\n2136 Penn Avenue South\nMinneapolis\, Minnesota 55405 \nYes! This event is free to participants.\nYes! This session is open to the public.  \nPlease RSVP via email to Lauren@marnitastable.org or give us a call at 612.928.7744
URL:https://marnitastable.org/event-calendar/tea-at-the-table/
LOCATION:Marnita’s Table Office\, 2136 Penn Avenue South \, Minneapolis\, MN\, 55419\, United States
END:VEVENT
END:VCALENDAR