BEGIN:VCALENDAR
VERSION:2.0
PRODID:-//Marnita&#039;s Table - ECPv6.15.20//NONSGML v1.0//EN
CALSCALE:GREGORIAN
METHOD:PUBLISH
X-WR-CALNAME:Marnita&#039;s Table
X-ORIGINAL-URL:https://marnitastable.org
X-WR-CALDESC:Events for Marnita&#039;s Table
REFRESH-INTERVAL;VALUE=DURATION:PT1H
X-Robots-Tag:noindex
X-PUBLISHED-TTL:PT1H
BEGIN:VTIMEZONE
TZID:UTC
BEGIN:STANDARD
TZOFFSETFROM:+0000
TZOFFSETTO:+0000
TZNAME:UTC
DTSTART:20160101T000000
END:STANDARD
END:VTIMEZONE
BEGIN:VEVENT
DTSTART;TZID=UTC:20171001T070000
DTEND;TZID=UTC:20171001T100000
DTSTAMP:20260423T064733
CREATED:20170927T210811Z
LAST-MODIFIED:20170927T210846Z
UID:2160-1506841200-1506852000@marnitastable.org
SUMMARY:Marathon Sunday Party
DESCRIPTION:Join us at Marnita’s Table for our 18th Annual Marathon Party \nFeaturing free espresso & hot chocolate from La Vita Espresso Bar & dozens of Puppy Dog Tails from Isles Bun & Coffee. \nBring your family & friends to stop by and cheer on your runners at the beginning of the race. \nInstead of running\, we all stand\, snack\, eat\, nosh\, laugh\, connect & cheer as others (typically over 10\,000 others) work up a good sweat. \nHelp us win the Medtronic cheer zone prize! \nEgg\, meat\, potato\, vegetable or fruit dishes (no pastries please!) for the buffet welcome but not required!!!!\n\n~Frequently Asked Questions~ \nQ: Should I bring food?\nA: We’d love it if you brought something for the Table on Marathon Sunday. As we already provide Isles Bun & Coffee world famous puppy dog tail pastries\, we ask that you bring an egg\, meat\, potato\, vegetable or fruit dish if you want to bring an offering for the Table. \nQ: Can I bring guests?\nThe more the merrier! \nQ: What should I wear?\nAs you likely know fall mornings in MN can get a little nippy! Dress comfortably and warmly! We encourage you to check a weather forecast morning of so you’re not caught off guard by surprising weather. \nQ: Is there a charge?\nNo! Though as always Marnita’s Table appreciates donations to defray costs and support the work we do. \nQ: Do I have to RSVP?\nYou don’t have to RSVP for this event\, but it does help to know how many might come\, so let us know if you already know you are coming! You can RSVP by saying you’ll attend here on facebook. \nQ: Where can I find out more about Marnita’s Table?\nGo online to marnitastable.org to read about our work and keep up-to-date on the happenings at the Table. \nQ: Where do I park? How do I get there?\nRoads close early so you really need to be here by 7:15 am in the morning\, particularly if you are driving and parking. Wheelchairs start at 8:00 am from downtown. Runners come in waves starting at about 8:15. If you are biking or walking you can cross Penn Avenue until then. If you drive\, park on Kenwood Parkway and then walk around the block as we are on the west side of Penn Avenue right before Lake of the Isles Parkway. After a certain time\, often a little after 7:15 you can’t cross Penn Avenue to get to the parkway as they have it closed. Then you must park to the east of Penn Avenue and walk to get to us. The easiest would be to park in Kenwood Elementary School parking lot and walk two blocks south and cross the street! But you must do that no later than 8:00 am! You can’t miss us!
URL:https://marnitastable.org/event-calendar/marathon-party/
LOCATION:Marnita’s Table\, 2136 Penn Avenue South\, Minneapolis\, MN\, 55419\, United States
END:VEVENT
BEGIN:VEVENT
DTSTART;TZID=UTC:20171012T100000
DTEND;TZID=UTC:20171012T160000
DTSTAMP:20260423T064733
CREATED:20170919T204415Z
LAST-MODIFIED:20170927T010150Z
UID:2150-1507802400-1507824000@marnitastable.org
SUMMARY:Intentional Social Interaction ("IZI") Training 101-104
DESCRIPTION:Get trained in our experience engineering model of Intentional Social Interaction (“IZI”)! Marnita’s Table is teaching IZI 101-104 on Thursday\, October 12 from 10:00am-4:00pm at St. Mary’s Greek Orthodox Church. You will deepen your own leadership skills and cross-cultural competency\, while learning methods to effectively engage people across difference! \nYou will: \n\nPlay with and eat delicious food and beverage while thinking deeply about the practical logistics of consistently creating an authentically welcoming environment;\nLearn the 5 foundational roots and 20 touchpoints of IZI;\nPractice inclusive tools to facilitate individuals across difference;\nReceive access to exclusive Marnita’s Table tools that will help you host your own personal IZIs; and\nExplore practices to engage under represented or under resourced individuals.\n\nLocation\nSt. Mary’s Greek Orthodox Church\n3450 Irving Avenue South\nMinneapolis\, MN 55408\n10 am – 4 pm \nPlease send an email to Lauren@marnitastable.org to RSVP. \nIZI Training Quotes\n“From the moment I walked in for our first IZI training until Circle Share-In time at our Kick-off event\, I personally felt challenged and strengthened in ways I was not expecting. It’s easy to remain complacent and being a part of the IZI team affirmed for me how critical it is to be intentional with each connection that we encounter.” \n“I was stretched to go deeper within myself and was honestly in awe of the transformation that took place within the room as co-workers came together to share a delicious meal and authentically connect with one another.” \nAbout Marnita’s Table\nMarnita’s Table is a mission-driven nonprofit organization that seeks to measurably increase social capital across race\, class\, culture\, gender and other means of self-identity in order to catalyze transformational change where racial and cultural differences are not viewed as deficits or merely tolerated\, but instead viewed as assets. Experts at social capital building\, in the past twelve years we’ve welcomed nearly 40\,000 people from around the world and the around the way to find common ground while breaking bread. \nIf you would like to learn more about Marnita’s Table\, please visit our website at marnitastable.org.
URL:https://marnitastable.org/event-calendar/intentional-social-interaction-izi-training-101-104/
LOCATION:St. Mary’s Greek Orthodox Church\, 3450 Irving Avenue South\, Minneaposli \, MN\, 55408\, United States
END:VEVENT
BEGIN:VEVENT
DTSTART;TZID=UTC:20171024T180000
DTEND;TZID=UTC:20171024T210000
DTSTAMP:20260423T064733
CREATED:20170926T005547Z
LAST-MODIFIED:20170926T005547Z
UID:2154-1508868000-1508878800@marnitastable.org
SUMMARY:Health Matters! A Scott County Health IZI
DESCRIPTION:Please join the Scott County Health Care System Collaborative for Health Matters! a community feast and conversation about health and wellness. \nDuring our time together we will explore what we need to be well and how we can fully access healthcare when we need it. \nYes! This event is free.\nYes! Dinner is provided.\nYes! Children and youth are welcome.\nNo uniforms! No name tags! Dress comfortably! \nRSVP via e-mail to sammie@marnitastable.org or call us at 612.928.7744 \nFunding for this event was generously provided by the Statewide Health Improvement Partnership\, St. Francis Regional Medical Center and Mayo Clinic Health System New Prague. \nWhat to Expect\nExpect to be enlivened\, engaged and to have fun as we share an abundant feast and discuss what we can do together to make a healthy and more equitable community for all. Dinner is served in abundance to allay any dietary or cultural concern from vegan to carnivore using Marnita’s Table model (marnitastable.org) of a resource abundant environment where all can eat their fill! Dress comfortably. You are our guest for dinner. There is no charge to participate.
URL:https://marnitastable.org/event-calendar/health-matters-scott-county-health-izi/
LOCATION:Shakopee Community Center\, 1255 Fuller St S\, Shakopee\, MN\, 55379\, United States
END:VEVENT
END:VCALENDAR