BEGIN:VCALENDAR
VERSION:2.0
PRODID:-//Marnita&#039;s Table - ECPv6.15.20//NONSGML v1.0//EN
CALSCALE:GREGORIAN
METHOD:PUBLISH
X-WR-CALNAME:Marnita&#039;s Table
X-ORIGINAL-URL:https://marnitastable.org
X-WR-CALDESC:Events for Marnita&#039;s Table
REFRESH-INTERVAL;VALUE=DURATION:PT1H
X-Robots-Tag:noindex
X-PUBLISHED-TTL:PT1H
BEGIN:VTIMEZONE
TZID:UTC
BEGIN:STANDARD
TZOFFSETFROM:+0000
TZOFFSETTO:+0000
TZNAME:UTC
DTSTART:20160101T000000
END:STANDARD
END:VTIMEZONE
BEGIN:VEVENT
DTSTART;TZID=UTC:20171104T190000
DTEND;TZID=UTC:20171104T220000
DTSTAMP:20260423T050555
CREATED:20171028T044140Z
LAST-MODIFIED:20171028T044256Z
UID:2201-1509822000-1509832800@marnitastable.org
SUMMARY:Energy Empathy Environment
DESCRIPTION:Are you concerned about our increasingly divisive society? Do you feel an urgency for catalyzing authentic relationships across race\, class\, religion\, political\, alignment and other means of self-identity? If so\, we need you to join us on Saturday\, November 4\, 2017 from 7-10 p.m. at St. Mary’s Greek Orthodox Church in Uptown for our ninth annual Start the Conversation fundraiser! Get ready for a tasty\, timely and insightful exploration of Energy Empathy Environment. We’ll update you on how Intentional Social Interaction (“IZI”) is closing relationship gaps across difference in Minnesota and beyond while you enjoy a feast appropriate for all dietary concerns from vegan to carnivore. \nRight now there are pressing requests throughout our state and country to bring people together equitably and peacefully to solve the challenges confronting us. Although almost 70% of our revenue and 100% of our operating budget come from someone who hires us\, we are raising funds to field rapid response teams to deliver pop-up Tables with supporting tools. Often the demand for IZI is greatest where there isn’t a clear funding source. That’s why we need your support to bring IZI to communities that require immediate intervention but lack the budget to meet their needs. \nPlease go online to order your tickets today:\nhttp://energyempathyenvironment.brownpapertickets.com/.\nGeneral Admission tickets are $75. We have a special scholarship price of $25. Want to sponsor or volunteer? Contact Lauren@marnitastable.org \nThank you for valuing our model of Intentional Social Interaction (“IZI”)! We appreciate your investment in building critical social capital in our community. We look forward to welcoming you to the Table soon! If you can’t be with us\, please consider making a donation.
URL:https://marnitastable.org/event-calendar/energy-empathy-environment/
LOCATION:St. Mary’s Greek Orthodox Church\, 3450 Irving Avenue South\, Minneaposli \, MN\, 55408\, United States
END:VEVENT
BEGIN:VEVENT
DTSTART;TZID=UTC:20171115T100000
DTEND;TZID=UTC:20171115T160000
DTSTAMP:20260423T050555
CREATED:20171107T054654Z
LAST-MODIFIED:20171107T054654Z
UID:2277-1510740000-1510761600@marnitastable.org
SUMMARY:IZI Training 101-104
DESCRIPTION:Get trained in our experience engineering model of Intentional Social Interaction (“IZI”)! Marnita’s Table is teaching IZI 101-104 on Wednesday\, November 15 from 10:00am-4:00pm at Washington Technology Magnet High School. You will deepen your own leadership skills and cross-cultural competency\, while learning methods to effectively engage people across difference! \nYou will:\n-Play with and eat delicious food and beverage while thinking deeply about the practical logistics of consistently creating an authentically welcoming environment;\n-Learn the 5 foundational roots and 20 touchpoints of IZI;\n-Practice inclusive tools to facilitate individuals across difference;\n-Receive access to exclusive Marnita’s Table tools that will help you host your own personal IZIs; and\n-Explore practices to engage under-represented or under-resourced individuals. \nLocation\nWashington Technology Magnet School\n1495 Rice Street\nCenter for Equity and Culture Room 1620\nSt. Paul\, MN 55117\n10:00 a.m. – 4:00 p.m. \nPlease send an email to Lauren@marnitastable.org to RSVP and learn more about pricing. \nIZI Training Quotes\n“From the moment I walked in for our first IZI training until Circle Share-In time at our Kick-off event\, I personally felt challenged and strengthened in ways I was not expecting. It’s easy to remain complacent and being a part of the IZI team affirmed for me how critical it is to be intentional with each connection that we encounter.” \n“I was stretched to go deeper within myself and was honestly in awe of the transformation that took place within the room as co-workers came together to share a delicious meal and authentically connect with one another.” \nAbout Marnita’s Table\nMarnita’s Table is a mission-driven nonprofit organization that seeks to measurably increase social capital across race\, class\, culture\, gender and other means of self-identity in order to catalyze transformational change where racial and cultural differences are not viewed as deficits or merely tolerated\, but instead viewed as assets. Experts at social capital building\, in the past twelve years we’ve welcomed over 40\,000 people from around the world and the around the way to find common ground while breaking bread. \nIf you would like to learn more about Marnita’s Table\, please visit our website at marnitastable.org.
URL:https://marnitastable.org/event-calendar/izi-training-101-104/
LOCATION:Washington Technology Magnet High School\, 1495 Rice Street\, St. Paul\, MN\, 55117
END:VEVENT
BEGIN:VEVENT
DTSTART;TZID=UTC:20171118T130000
DTEND;TZID=UTC:20171118T160000
DTSTAMP:20260423T050555
CREATED:20171108T041106Z
LAST-MODIFIED:20171113T233039Z
UID:2281-1511010000-1511020800@marnitastable.org
SUMMARY:Youth Takeover! Self-care as a Radical Act
DESCRIPTION:Please join the Catalyst Initiative of the George Family Foundation and Irreducible Grace Foundation along with other members of our community for a day of healing\, celebration\, and centering of youth leadership and intergenerational connection. We hope you will be with us on Saturday\, November 18th from 1 p.m. to 4 p.m. as we gather for a feast and exploration of Youth Takeover! Self-care as a Radical Act. During our time together\, we will engage active practices for wellness and share resources for supporting healing\, youth leadership and collective resilience. \nYes! This event is free to participate.\nYes! Children and youth of all ages are welcome. \nLocation:\nHallie Q. Brown Community Center\n270 N Kent St.\nSt. Paul\, MN 55102 \nDay of Contact: (401) 871-5641 \nPlease let us know if you plan to be with us by sending an RSVP via e-mail to elexis@marnitastable.org. \nWhat to Expect:\nExpect to be enlivened\, engaged and to expand your understanding of healing practices in support of wellness and young leadership. Together we will capitalize on existing energy\, make new connections and build momentum as we share an abundant cross-cultural and intergenerational feast. \nIf you are receiving this invitation you have been identified as someone who will add and receive extraordinary value through your participation. We are seeking a vibrant cross-cultural mix of participants.  \nPlease note that many organizations are collaborating to invite community members to this event\, including Marnita’s Table\, Face to Face\, African American Babies Coalition\, the Irreducible Grace Foundation\, the People’s Movement Center\, St. Paul Youth Services\, and others\, so you may receive more than one invitation.  \nOur Intentional Social Interaction is an inclusive forum to exchange ideas and build relationships across age\, ethnicity and other means of self-identity in order to catalyze positive action toward building community resilience and centering the voices of the amazing youth in our community. \nA complete feast is served with abundance to allay any dietary concern from vegan to carnivore in the Marnita’s Table model (www.marnitastable.org). You are our guest and there is no charge to participate. Please dress comfortably. \nWe look forward to welcoming you! If you have any questions\, you may call the Marnita’s Table team at 612.928.7744.
URL:https://marnitastable.org/event-calendar/youth-takeover-self-care-radical-act/
LOCATION:Hallie Q. Brown Community Center\, 270 N Kent St.\, St. Paul\, MN\, 55102
END:VEVENT
BEGIN:VEVENT
DTSTART;TZID=UTC:20171128T180000
DTEND;TZID=UTC:20171128T210000
DTSTAMP:20260423T050555
CREATED:20171028T043250Z
LAST-MODIFIED:20171028T043250Z
UID:2194-1511892000-1511902800@marnitastable.org
SUMMARY:CommUnity! A Community Feast and Dialogue
DESCRIPTION:Please join the United Way of Steele County on Tuesday\, November 28th from 6-9 p.m. for CommUnity! a community feast and dialogue. \nDuring our time together\, we will explore how we can create a more connected community across difference. Feel free to drop by for a bit or stay for the whole time—but you won’t want to miss this exciting and important conversation. \nYes\, you are our guest!\nYes\, this event is free!\nYes\, children and youth are welcome! \nLocation:\nOwatonna Middle School (Cafeteria)\n500 15th St NE\nOwatonna\, MN 55060 \nDay-of contact:\nSammie 612-875-3215 \nWhat to Expect:\nExpect to be enlivened\, engaged and to have fun as we share a delicious and abundant meal\, served with consideration for any diet\, using the Marnita’s Table model (marnitastable.org) of Intentional Social Interaction! Dress comfortably and be prepared to learn and share. You are our guest and there is no charge to participate. \nPlease let us know if you plan to be with us by sending an RSVP via e-mail to sammie@marnitastable.org or leaving a message at 612-928-7744. \nWe look forward to welcoming you for this community conversation.  If you have any questions give us a call! We look forward to having you join us!
URL:https://marnitastable.org/event-calendar/community-community-feast-dialogue/
LOCATION:Owatonna Middle School (Cafeteria)\, 500 15th St NE\, Owatonna\, MN\, 55060\, United States
END:VEVENT
END:VCALENDAR