BEGIN:VCALENDAR
VERSION:2.0
PRODID:-//Marnita&#039;s Table - ECPv6.15.20//NONSGML v1.0//EN
CALSCALE:GREGORIAN
METHOD:PUBLISH
X-WR-CALNAME:Marnita&#039;s Table
X-ORIGINAL-URL:https://marnitastable.org
X-WR-CALDESC:Events for Marnita&#039;s Table
REFRESH-INTERVAL;VALUE=DURATION:PT1H
X-Robots-Tag:noindex
X-PUBLISHED-TTL:PT1H
BEGIN:VTIMEZONE
TZID:UTC
BEGIN:STANDARD
TZOFFSETFROM:+0000
TZOFFSETTO:+0000
TZNAME:UTC
DTSTART:20170101T000000
END:STANDARD
END:VTIMEZONE
BEGIN:VEVENT
DTSTART;TZID=UTC:20181004T180000
DTEND;TZID=UTC:20181004T210000
DTSTAMP:20260422T102500
CREATED:20180910T233833Z
LAST-MODIFIED:20180910T233833Z
UID:2892-1538676000-1538686800@marnitastable.org
SUMMARY:A Healthy Welcome (Carver County IZI)
DESCRIPTION:Please join us on Thursday\, October 4th from 6-9pm for A Healthy Welcome!\na community feast and conversation about health for all neighbors in Carver County.\nJoin Carver County Public Health for the first in a series of conversations about community health and wellness. \nYes! This event is free.\nYes! Dinner is provided.\nYes! Children and youth are welcome.\nYes! We will help you find transportation. Call us before the day of the event!\nNo uniforms! Dress comfortably! \nCommunity Location\nChaska Community Center\n1661 Park Ridge Drive\nChaska\, MN 55318 \nLet us know you are coming! Call or email about a ride.\nEmail sammie@marnitastable.org or call us at 612.928.7744\nDay-of Contact: 612-875-3215 \nWhat to Expect\nDinner is served in abundance to allay any dietary concern from vegan to carnivore using the Marnita’s Table model of Intentional Social Interaction. Dress comfortably (no uniforms!). You are our guest for the day. \nIf you are receiving this invitation you have been identified as someone who will add and receive extraordinary value through your participation in this conversation. We are specifically seeking a vibrant cross-cultural mixing of individuals for this engaged and supportive conversation. If you know someone who will add and receive extraordinary value through their participation feel free to reach out to someone across race\, class\, culture or age and invite them to join you! \nMany community allies and partners are inviting community members to this conversation. As a result\, you may receive more than one invitation. We will try to accommodate as many participants as possible\, so please let us know if you plan to be with us by sending an RSVP via e-mail to sammie@marnitastable.org. \nAbout Marnita’s Table\nMarnita’s Table seeks to measurably increase social capital across race\, class\, culture\, gender and other means of self-identity in order to catalyze transformational change where racial and cultural differences are not viewed as deficits or merely tolerated\, but instead viewed as assets. Experts at social capital building\, in the past ten years we’ve welcomed over 30\,000 people from around the world and the around the way to find common ground while breaking bread.
URL:https://marnitastable.org/event-calendar/a-healthy-welcome-carver-county-izi/
LOCATION:Chaska Community Location\, 1661 Park Ridge Drive\, Chaska\, MN\, 55318\, United States
END:VEVENT
BEGIN:VEVENT
DTSTART;TZID=UTC:20181024T180000
DTEND;TZID=UTC:20181024T210000
DTSTAMP:20260422T102500
CREATED:20181003T000348Z
LAST-MODIFIED:20181003T000348Z
UID:2920-1540404000-1540414800@marnitastable.org
SUMMARY:GenConnect Dinner Party Training for the Holiday Season!
DESCRIPTION:Please join us for a special GenConnect training on Wednesday\, October 24th from 6:00 p.m. – 9:00 p.m. Make sure that nobody feels left out this holiday season! We’ll share special holiday conversation tools and vegan to carnivore recipes for celebrating throughout the winter season! At this feast and training you will learn tips and tricks for throwing a successful GenConnect dinner party. You will also receive materials and more that will help you to host an inclusive gathering for all. Youth and elders are welcome! Each training guest will receive their own materials and tools for throwing a fun and engaging dinner party! \nWednesday\, October 24th 2018\n6:00 p.m. – 9:00 p.m.\nSt. Mary’s Greek Orthodox Church\n3450 Irving Avenue South\nMinneapolis\, MN 55408 \nAbout GenConnect\nGenConnect is an initiative to connect people across differences\, who may not have met before\, but share similar interests and concerns\, in order to facilitate deeper conversations and build capacity for collaborative undertakings. \nLearn more: marnitastable.org/genconnect \nRSVP for via e-mail at lauren@marnitastable.org\nYou may also call us at 612.928.7744 \nDay of Event Contact:\nLauren | 612.750.1267 \nWhat to Expect\nIf you are receiving this invitation you have been identified as someone who will add and receive extraordinary value through your participation. We are specifically seeking a vibrant cross-cultural mix of hosts and cohosts. If you know someone across race\, class\, culture or age who might be an excellent host or cohost we highly encourage you to invite them to join you! \nA delicious feast from vegan to carnivore will be served in abundance using the Marnita’s Table model of Intentional Social Interaction. Please dress comfortably. You are our guest for the day! This community supper and dialogue has been made possible thanks to the generosity of the Itasca Project and the Bush Foundation. \nYes! Children and teens are welcome!\nYes! This event is open to the public and free to participate! \nAbout the Itasca Project\nThe Itasca Project is a virtual organization dedicated to collaborative efforts toward regional economic vitality\, quality of life\, and prosperity for all. For more information\, please visit our website at  www.theitascaproject.com. \nAbout Marnita’s Table\nMarnita’s Table seeks to measurably increase social capital across race\, class\, culture\, gender and other means of self-identity in order to catalyze transformational change where racial and cultural differences are not viewed as deficits or merely tolerated\, but instead viewed as assets. Experts at social capital building\, in the past ten years we’ve welcomed over 46\,000 people from around the world and the around the way to find common ground while breaking bread. Check out our website www.marnitastable.org for more information.
URL:https://marnitastable.org/event-calendar/genconnect-dinner-party-training-for-the-holiday-season/
LOCATION:St. Mary’s Greek Orthodox Church\, 3450 Irving Avenue South\, Minneaposli \, MN\, 55408\, United States
END:VEVENT
END:VCALENDAR